BEGIN:VCALENDAR
VERSION:2.0
PRODID:-//https://urbane-gaerten.de///NONSGML kigkonsult.se iCalcreator 2.10.15//
METHOD:PUBLISH
BEGIN:VEVENT
UID:20260423T031432UTC-6389n9m90N@https://urbane-gaerten.de/
DTSTAMP:20260423T031432Z
DESCRIPTION:Online-Kurs zum Thema Wildkräuter sammeln und verarbeiten vom H
 amburger Verein Permakultur kollektiv\nEs ist Frühling und sie sind wieder
  da – all die leckeren und gesunden Wildkräuter\, die uns einfach so zur V
 erfügung stehen. Wir schauen\, was gerade wo wächst und wie wir die Pflanz
 en sicher bestimmen. Dazu schauen wir auf die Inhaltsstoffe und teilen tol
 le Rezepte.\nWeitere Infos und Anmeldung auf dieser Seite. https://urbane-
 gaerten.de/veranstaltungen/event/1217-permakultur-praktisch-wildkräuter
DTSTART:20240515T173000Z
DTEND:20240515T193000Z
LOCATION:online (online Veranstaltung)
SUMMARY:Permakultur praktisch: Wildkräuter
URL:https://urbane-gaerten.de/veranstaltungen/event/1217-permakultur-prakti
 sch-wildkräuter
END:VEVENT
END:VCALENDAR
