BEGIN:VCALENDAR
VERSION:2.0
PRODID:-//https://urbane-gaerten.de///NONSGML kigkonsult.se iCalcreator 2.10.15//
METHOD:PUBLISH
BEGIN:VEVENT
UID:20260422T085705UTC-6275VjW8Ps@https://urbane-gaerten.de/
DTSTAMP:20260422T085705Z
DESCRIPTION:Anmeldung und weitere Informationen hier!\nLiebe Waldgarteninte
 ressierte\,\nangesichts zunehmender Anforderungen an städtische Grünfläche
 n (Klimaschutz\, Biodiversität\, erhöhter Nutzungsdruck\, Beteiligungswüns
 che\, Urban Gardening etc.)  können urbane Waldgärten als neuartiger\, mul
 tifunktionaler Lösungsansatz dienen. Mit Hilfe von drei Modellprojekten in
  Berlin und Kassel erprobt und erforscht das Verbundprojekt „Urbane Waldgä
 rten“\, welches im Bundesprogramm Biologische Vielfalt gefördert wird\, di
 esen Ansatz. Ein Ziel des Projektes ist es\, neben praktischen Erfahrungen
 \, verschiedenen Akteuren (u.a. Verwaltungen\, Planer*Innen\, Grüne Berufe
 \, sowie Waldgarten-Initiativen) das Prinzip von Waldgärten in der Stadt n
 äher zu bringen und die Einstiegshürden für die Realisierung urbaner Waldg
 ärten zu verkleinern. In diesem Rahmen laden wir Sie zu unserer bundesweit
 en Fachtagung und unserem 5. Vernetzungsworkshop vom 25. – 28. September i
 n Berlin ein.\nWährend die ersten beiden Tage (25./ 26.09) besonders an Fa
 chleute (u.a. Verwaltungen\, Planer*Innen\, grüne Berufe und Umweltbildung
 sakteur*Innen) gerichtet sind\, schwenkt der Fokus am Wochenende (27./ 28.
 09.) auf die Vernetzung und den Erfahrungsaustausch bestehender und neuer 
 urbaner Waldgarten-Initiativen. Neben spannenden Vorträgen\, zu Erfahrunge
 n und wissenschaftlichen Erkenntnissen verschiedener urbaner Waldgärten\, 
 erwarten Sie außerdem theoretische\, sowie praktische Workshops\, eine Füh
 rung durch den Waldgarten Kleingartenpark Berlin Britz und viel Zeit zur V
 ernetzung.\nUm einen regen Austausch rund um diverse Erfahrungen mit urban
 en Waldgärten bundesweit zusammenzutragen\, laden wir Sie ein\, Beiträge (
 Vorträge\, Poster oder Workshops) bis zum 31.05.25 hier einzureichen.\nNäh
 ere Informationen zu Programm und Anmeldung finden Sie hier.\nKontakt: koo
 rdination@urbane-waldgaerten.de https://urbane-gaerten.de/veranstaltungen/
 event/1459-fachtagung-urbane-waldgärten\,-berlin-2025
DTSTART:20250925T123000Z
DTEND:20250928T170000Z
LOCATION:Gemeinschaftshaus Gropiusstadt\, Berlin Urbaner Waldgarten Berlin 
 Britz (Bat-Yam-Platz\, 12353\, Berlin\, Gropiusstadt\, Berlin)
SUMMARY:Fachtagung Urbane Waldgärten\, Berlin 2025
URL:https://urbane-gaerten.de/veranstaltungen/event/1459-fachtagung-urbane-
 waldgärten,-berlin-2025
END:VEVENT
END:VCALENDAR
