BEGIN:VCALENDAR
VERSION:2.0
PRODID:-//https://urbane-gaerten.de///NONSGML kigkonsult.se iCalcreator 2.10.15//
METHOD:PUBLISH
BEGIN:VEVENT
UID:20260422T085249UTC-3031ICU7zU@https://urbane-gaerten.de/
DTSTAMP:20260422T085249Z
DESCRIPTION:Bereits in der Antike wurden für die Erzeugung natürlicher Farb
 stoffe Färberpflanzen angebaut. In einigen Gemeinschaftsgärten spielen sie
  auch heutzutage eine Rolle und werden für kreativ-künstlerische Projekte 
 genutzt. Färberpflanzen wachsen überall\, man muss sie nur erkennen. Im Wo
 rkshop probieren wir aus\, wie Naturfarben zum Malen genutzt werden können
 . Außerdem beschäftigen wir uns mit diesen Themen:\n• Was sind Färberpflan
 zen und wie können sie Gemeinschaftsgärten bereichern? • Aus welchen Pflan
 zen kann auf welche Weise Farbe gewonnen werden?• Welche „Geheimnisse“ ste
 cken hinter den Farben der Natur?\nPraxisnah und im gemeinsamen Austausch 
 kann jede*r Informationen für den eigenen Gemeinschaftsgarten mitnehmen. I
 m Workshop werden jahrelanges Wissen über die wichtigsten Färberpflanzen\,
  Anregungen und Gestaltungsvorschläge für Kreativprojekte vermittelt.\nWei
 tere Informationen und Anmeldung https://urbane-gaerten.de/veranstaltungen
 /event/1466-workshop-farben-aus-pflanzen-farbreichtum-der-natur-gemeinsam-
 entdecken
DTSTART:20250913T123000Z
DTEND:20250913T170000Z
LOCATION:Internationale Gärten Dresden\, 01373 Dresden (Holbeinstraße 7-7\,
  01307\, Dresden\, Johannstadt-Süd\, Sachsen)
SUMMARY:Workshop: Farben aus Pflanzen - Farbreichtum der Natur gemeinsam en
 tdecken
URL:https://urbane-gaerten.de/veranstaltungen/event/1466-workshop-farben-au
 s-pflanzen-farbreichtum-der-natur-gemeinsam-entdecken
END:VEVENT
END:VCALENDAR
