BEGIN:VCALENDAR
VERSION:2.0
PRODID:-//https://urbane-gaerten.de///NONSGML kigkonsult.se iCalcreator 2.10.15//
METHOD:PUBLISH
BEGIN:VEVENT
UID:20260422T085243UTC-1674JVuMTF@https://urbane-gaerten.de/
DTSTAMP:20260422T085243Z
DESCRIPTION:Webinar: Regenwasser clever nutzen: Modulare Lösungen für die S
 chwammstadt der Zukunft\nmit Rhea Rennert von Regenmodule\, Alice Sandor v
 on der Schönbuchschule in Stuttgart und Stefan Koderisch von AG.URBAN\nDie
  Vorteile von Stadtgrün sind vielfältig – es reguliert das Stadtklima\, fö
 rdert die psychische und physische Gesundheit der Bewohner*innen\, schafft
  Erholungsräume\, stärkt Biodiversität und schützt Böden und Wasser. Durch
  Hitze\, Starkregen und Trockenheit stehen Städte zunehmend unter Druck\, 
 die Bäume leiden zudem unter beengten Standorten. Das Konzept der Schwamms
 tadt bietet Lösungen für widerstandsfähige\, grünere urbane Räume. Eine St
 rategie ist die lokale Speicherung von Regenwasser. Im Webinar erfahren Si
 e\, wie modulare Stadtmöbel die Bewässerung des Stadtgrüns sicherstellen\,
  Nachbarschaft stärken und Umweltbewusstsein fördern.\nÜber die Vortragend
 en:\nRhea Rennert ist Stadtökologin i. Sp. und Naturenthusiastin. Sie verf
 ügt über eine breite Expertise rund um die Themen urbane Nachhaltigkeit un
 d Ökohydrologie. Im Sommer 2023 hat sie zusammen mit Kitty Lambooij Regenm
 odule gegründet. Im Webinar wird sie die modularen Stadtmöbel mit integrie
 rtem Regenwasserspeicher vorstellen\, die vielfältigen Kombinations- und E
 insatzmöglichkeiten präsentieren und über erforderliche Rahmenbedingungen 
 informieren.\nAlice Sandor ist Konrektorin an der Schönbuchschule in Stutt
 gart und zuständig für den Schulgarten und die Naturzeiten. Die Naturzeite
 n sind Unterrichtsstunden\, in denen die Ganztagskinder draußen die Natur 
 in der Schulumgebung erleben und erkunden: den Schulgarten\, das Biotop au
 f dem Schulgelände und den nahen Wald. Alice Sandor berichtet im Webinar\,
  wie die Regenwasserbank im Schulkontext eingesetzt und genutzt wird.\nSte
 fan Koderisch ist Stadtplaner und Projektleiter bei AG.URBAN. Dort entwick
 elt er Projekte zur Klimaanpassung auf Quartiersebene\, die Verwaltung\, Z
 ivilgesellschaft und Nachbarschaften gleichermaßen einbinden. Sein Schwerp
 unkt liegt auf niedrigschwelligen\, partizipativen Planungs- und Umsetzung
 sprozessen\, die greifbare Maßnahmen im Stadtraum hervorbringen – von Maßn
 ahmenkatalogen über grüne Hinterhöfe bis hin zu klimaresilienten Kiezplätz
 en. Stefan Koderisch wird zwei Projekte aus Berlin vorstellen\, die auf Re
 genmodule setzen.\nProgramm:\nBegrüßung & Einführung HEBEDI\, Ina Säumel (
 Humboldt-Universität zu Berlin) (5 Min.)\nRegenmodule\, Rhea Rennert (10 M
 in.)\nSchonbuchschule\, Alice Sandor (5 Min.)\nAG.URBAN\, Stefan Koderisch
  (5 Min.)\nFragen aus dem Chat & offene Diskussion (35 min)\nDas Webinar w
 ird aufgenommen mit Ausnahme der offenen Diskussion.\nDie Veranstaltung wi
 rd in deutscher Sprache ohne Übersetzung durchgeführt. Sie sind jedoch her
 zlich eingeladen\, Fragen und Beiträge auch auf Englisch einzubringen.\nAn
 meldung auf Eventbrite https://urbane-gaerten.de/veranstaltungen/event/149
 8-webinar-healthy-and-biodiverse-edible-cities-lunch-talk-18
DTSTART:20250930T130000Z
DTEND:20250930T140000Z
LOCATION:Online (via Zoom) ()
SUMMARY:Webinar: Healthy and Biodiverse Edible Cities | Lunch Talk #18 
URL:https://urbane-gaerten.de/veranstaltungen/event/1498-webinar-healthy-an
 d-biodiverse-edible-cities-lunch-talk-18
END:VEVENT
END:VCALENDAR
