BEGIN:VCALENDAR
VERSION:2.0
PRODID:-//https://urbane-gaerten.de///NONSGML kigkonsult.se iCalcreator 2.10.15//
METHOD:PUBLISH
BEGIN:VEVENT
UID:20260422T085121UTC-47933HIscU@https://urbane-gaerten.de/
DTSTAMP:20260422T085121Z
DESCRIPTION:Die neu gegründete Initiative BODENplus feiert am 9. Oktober im
  Haus der Demokratie und Menschenrechte in Berlin ihre Gründung mit einer 
 Auftaktveranstaltung. Ziel der Initiative ist es\, das Bewusstsein für die
  Bedeutung und den Wert unserer Böden in der Gesellschaft zu fördern und d
 em Bodenschutz so neuen Aufwind zu geben. Neben der offiziellen Gründung u
 mfasst die Auftaktveranstaltung Impulsvorträge zu Bodenperspektiven aus Pr
 axis und Wissenschaft\, partizipative Elemente zur Mitwirkung an der Initi
 ative sowie anschließende Netzwerk- und Austauschmöglichkeiten. Die Initia
 tive hat ihren Ursprung am Unabhängigen Institut für Umweltfragen (UfU)\, 
 einem praktisch-wissenschaftlichen Institut und gemeinnützigen Verein mit 
 Hauptsitz in Berlin (https://www.ufu.de/). Der Fokus unserer Arbeit liegt 
 darauf\, die Lücke zwischen Wissen und Handeln im Umwelt- und Klimaschutz 
 zu schließen.\n \nWeitere Informationen & Anmeldung: https://www.ufu.de/bo
 den-plus-auftaktveranstaltung/ https://urbane-gaerten.de/veranstaltungen/e
 vent/1507-auftaktveranstaltung-der-initiative-bodenplus
DTSTART:20251009T140000Z
DTEND:20251009T170000Z
LOCATION:Haus der Demokratie und Menschenrechte  (Greifswalder Straße 4\, 1
 0405 Berlin)
SUMMARY:Auftaktveranstaltung der Initiative BODENplus
URL:https://urbane-gaerten.de/veranstaltungen/event/1507-auftaktveranstaltu
 ng-der-initiative-bodenplus
END:VEVENT
END:VCALENDAR
