BEGIN:VCALENDAR
VERSION:2.0
PRODID:-//https://urbane-gaerten.de///NONSGML kigkonsult.se iCalcreator 2.10.15//
METHOD:PUBLISH
BEGIN:VEVENT
UID:20260422T085035UTC-2141gUdsL5@https://urbane-gaerten.de/
DTSTAMP:20260422T085035Z
DESCRIPTION:Einladung zum Workshop „Naturgestützte Therapie – Eine Einführu
 ng mit Übungen“Erlebe\, wie Natur heilsam wirken kann: In diesem Workshop 
 gewinnst Du anhand praktischer Übungen ein erstes Verständnis davon\, was 
 naturgestützte Therapie ist\, wie sie wirkt und wie sie angewendet werden 
 kann.Wann & WoSonntag\, 28. September 2025|15:00 - 18:00 UhrSteglitz-Zehle
 ndorf\, Am Fichtenberg 17\, 12165 Berlin(Toreinfahrt Wirtschaftshof Botani
 scher Garten)Anfahrt Bus M48 – Haltestelle „Unter den Eichen/Botanischer G
 arten“ oder S+U Rathaus Steglitz (S1\, U9\, diverse Buslinien) + ca. 15 Mi
 n. FußwegFür wen Erwachsene mit Interesse an Gärtnern & Urban Gardening\, 
 gesundem Leben\, Kunst & Kultur\, Natur- und Umweltbildung sowie Pflanzen.
 Leitung Patrick Urban\, Institut für Grüne Therapie BerlinTeilnahme Wir fr
 euen uns über eine Spende. Eine Anmeldung ist erforderlich: ✉️ kontakt@igt
 -berlin.org 🌐 www.igt-berlin.orgTauche ein in die Praxis naturgestützter T
 herapie und entdecken Sie neue Wege zu Resilienz\, Achtsamkeit und Verbund
 enheit mit der Natur. https://urbane-gaerten.de/veranstaltungen/event/1508
 -einführung-naturgestützte-therapie
DTSTART:20250928T150000Z
DTEND:20250928T180000Z
LOCATION:Institut für Grüne Therapie Berlin (Am Fichtenberg 17\, 12165 Berl
 in)
SUMMARY:Einführung Naturgestützte Therapie
URL:https://urbane-gaerten.de/veranstaltungen/event/1508-einführung-naturge
 stützte-therapie
END:VEVENT
END:VCALENDAR
