BEGIN:VCALENDAR
VERSION:2.0
PRODID:-//https://urbane-gaerten.de///NONSGML kigkonsult.se iCalcreator 2.10.15//
METHOD:PUBLISH
BEGIN:VEVENT
UID:20260422T084537UTC-0351ZV8TIv@https://urbane-gaerten.de/
DTSTAMP:20260422T084537Z
DESCRIPTION:\nAm 08.März findet im Humboldt Forum ein Aktionstag von BERLIN
  GLOBAL zum Weltfrauen*tag statt!\n\n\n \n\n\nInsbesondere öffentliche Räu
 me und somit auch Gemeinschaftsgärten spielen eine wichtige Rolle für marg
 inalisierte Menschen.\n\n\n \n\n\nWo können geschützte Orte in Gemeinschaf
 t aufgebaut werden?\n\n\nWie können wir Gärten als Orte des solidarischen 
 Miteinander sichtbarer machen? \n\n\nWie wichtig sind alternative Orte\, a
 n denen Erinnerung\, Gedenken und Trauer gelebt werden können?\n\n\n \n\n
 \nUm 18.00 Uhr hält Dr. Christa Müller (anstiftung) einen bilderreichen Vo
 rtrag mit dem Titel \n\n\n„Urbane Gärten als Orte der Selbstermächtigung u
 nd der feministischen Solidarität“.\n\n\n \n\n\nIm Anschluss diskutieren A
 nuscheh Amir-Khalili (anstiftung und Mitgründerin „Hevrîn Xelef Garten' in
  Berlin) und Elianna Renner (Initiatorin von „Köfte Kosher - Ein lebendige
 r Ort des Erinnerns“ in Bremen) mit Christa Müller über die Notwendigkeit 
 von Gedenkorten im öffentlichen Raum aus feministischer Perspektive. \n\n
 \n \n\n\nZuvor gibt es neben Führungen von Expert*innen auch einen Worksho
 p um jeweils 14.30 und 15.30 über Heilkräuterwissen als solidarische Praxi
 s von Zeren Oruc und Lea Nassim Tajbakhsh von Flamingo e.V.: \n\n\nSie tei
 len ihr Heilpflanzenwissen vom „Hevrîn Xelef“-Garten in Berlin-Neukölln bi
 s zu den Bergen Kurdistans\, vom Iran bis nach Afghanistan.\n\n\nDie gemei
 nsam zusammengestellten Heilkräutermischungen werden solidarisch an „Hekay
 at” – die offene Heilkräuterapotheke des Vereins weitergegeben.\n\n\n \n\n
 \nMehr Eindrücke über den Berliner Garten Hevrîn Xelef gibt es in diesem s
 chönen Video\n\n\nvon georg+georg zum Projekt  “Berlin gärtnert” des Berli
 ner Senats.\n\n\n \n\n\nKostenlose Tickets für den Vortrag mit anschließen
 der Paneldiskussion sowie für die Heilkräuterworkshops bekommt ihr hier.\n
 \n\n\nDie dauerhafte Ausstellung über Krieg und Gärten aus feministischer 
 Perspektive könnt ihr sowohl am 08. März\, als auch über das ganze Jahr im
  Humboldt Forum von BERLIN GLOBAL besuchen:\n\n\nhttps://www.stadtmuseum.d
 e/ausstellung/dara-tuye-der-maulbeerbaum\n\n\n \n\n\nWir freuen uns auf Eu
 ch!\n \n📸 Philip Leutert\n https://urbane-gaerten.de/veranstaltungen/event
 /1550-urbane-gärten-als-orte-der-selbstermächtigung-und-der-feministischen
 -solidarität
DTSTART:20260308T180000Z
DTEND:20260308T193000Z
LOCATION:Humboldt Forum (Schloßplatz 10178 Berlin)
SUMMARY:Urbane Gärten als Orte der Selbstermächtigung und der feministische
 n Solidarität
URL:https://urbane-gaerten.de/veranstaltungen/event/1550-urbane-gärten-als-
 orte-der-selbstermächtigung-und-der-feministischen-solidarität
END:VEVENT
END:VCALENDAR
