BEGIN:VCALENDAR
VERSION:2.0
PRODID:-//https://urbane-gaerten.de///NONSGML kigkonsult.se iCalcreator 2.10.15//
METHOD:PUBLISH
BEGIN:VEVENT
UID:20260420T023001UTC-4876JHbrKs@https://urbane-gaerten.de/
DTSTAMP:20260420T023001Z
DESCRIPTION:Dieses Infotreffen ist nicht nur für Mitglieder\, sondern auch 
 um neue Mitmacher zu gewinnen. Wir würden uns also riesig freuen\, euch be
 grüßen zu können.Bei diesem Infoabend möchten wir allen Interessierten das
  Projekt „Urbaner Waldgarten“ vorstellen\, über den aktuellen Stand inform
 ieren und uns gegenseitig austauschen.Treffpunkt ab 19 Uhr im baum20 (Baum
 kirchner Str. 20)Eine Registrierung hilft uns bei der Planung.Darüber hina
 us können wir euch benachrichtigen falls die Veranstaltung verschoben oder
  abgesagt wird.Wir freuen uns auf dich 😊Team Urbaner Waldgarten Berg-am-La
 im/Münchenemail: info@waldgarten-muenchen.dehttp//www.waldgarten-muenchen.
 deWo ist das Gelände des Urbanen Waldgartens:direkt anschliessend an das A
 lten- und Pflegeheim St. Michael in der St.-Michael-Strasse Alle Nachbarn 
 sind herzlich eingeladen mit zu machen. Was ist ein urbaner Waldgarten?Ein
  urbaner Waldgarten ist eine öffentlich zugängliche Fläche\, bepflanzt mit
  mehrschichtigen und überwiegend essbaren Pflanzen. Hier können die Bewohn
 er*innen des Stadtteils frische Früchte\, Gemüse und Kräuter selbst ernten
  und die Natur hautnah erleben. https://urbane-gaerten.de/veranstaltungen/
 event/1561-urbaner-waldgarten-info-treff
DTSTART:20260420T190000Z
DTEND:20260420T203000Z
LOCATION:Nachbarschaftstreff 'baum20'  (Baumkirchner Straße 20\, Berg-am-La
 im )
SUMMARY:Urbaner Waldgarten Info-Treff
URL:https://urbane-gaerten.de/veranstaltungen/event/1561-urbaner-waldgarten
 -info-treff
END:VEVENT
END:VCALENDAR
