BEGIN:VCALENDAR
VERSION:2.0
PRODID:-//https://urbane-gaerten.de///NONSGML kigkonsult.se iCalcreator 2.10.15//
METHOD:PUBLISH
BEGIN:VEVENT
UID:20260422T115041UTC-3632c2FjBu@https://urbane-gaerten.de/
DTSTAMP:20260422T115041Z
DESCRIPTION:Was Euch im Workshop erwartet:\nDie BODENPLUS-Initiative bietet
  Gemeinschaftsgärtner:innen in dem ca. zweistündigen Workshop die Chance a
 ls Citizen Scientists aktiv zu werden. Anhand von ein bis zwei gemeinsam a
 usgehobenen Bodenprofilen erfolgt unter fachkundiger Betreuung eine Beurte
 ilung der Bodengesundheit. Im Fokus stehen dabei die Ansprache und Bewertu
 ng ausgewählter Indikatoren. Anhand der Bodenprofile werden außerdem die w
 esentlichen Bodenfunktionen diskutiert\, um den Wert und die Bedeutung uns
 erer Böden für die Gesellschaft an einem konkreten Beispiel abzuleiten.\nD
 ie Analyse von Bodenstruktur\, Artenvielfalt\, Schadstoffen\, organischer 
 Substanz und pH-Wert erfolgt direkt am Bodenprofil gestützt durch eine App
  und Datenbank. Es werden zwei Bodenproben entnommen\, die anschließend im
  Labor hinsichtlich Bodenbiodiversität\, Schwermetalle und Bodennährstoffe
  analysiert werden. Im Workshop erhaltet ihr Wissen und Tools\, um später 
 in euren Gärten den Boden selbst untersuchen zu können. Für den Workshop s
 ind keinerlei Vorkenntnisse erforderlich.\n Workshopleitung: Dr. Arne Reck
 \, Leiter BODENplus beim UfU\nVon 18-20 Uhr\, anschließen Schnack und Snac
 k\nDie Teilnehmendenzahl ist begrenzt\nAnmeldung https://urbane-gaerten.de
 /veranstaltungen/event/1616-workshop-gemeinschaftsgärtner-innen-für-gesund
 e-böden
DTSTART:20260529T180000Z
DTEND:20260529T200000Z
LOCATION:Kiezgarten\, Schliemannstraße 8\, 10437 Berlin (Schliemannstraße 8
 \, 10437 Berlin)
SUMMARY:Workshop 'Gemeinschaftsgärtner:innen für gesunde Böden'
URL:https://urbane-gaerten.de/veranstaltungen/event/1616-workshop-gemeinsch
 aftsgärtner-innen-für-gesunde-böden
END:VEVENT
END:VCALENDAR
