BEGIN:VCALENDAR
VERSION:2.0
PRODID:-//https://urbane-gaerten.de///NONSGML kigkonsult.se iCalcreator 2.10.15//
METHOD:PUBLISH
BEGIN:VEVENT
UID:20260424T075947UTC-8629vvajmf@https://urbane-gaerten.de/
DTSTAMP:20260424T075947Z
DESCRIPTION:25.02.2023 (Samstag) 13:00 - 17:00 SaalEs wird 4 - 5 Stände der
  Gärten geben und für alle besteht die Möglichkeit\, Gemüse-\, Blumen und 
 Wildkräuter - Saat mitzubringen und zu holen. Ein Diplombiologe wird einen
  Vortrag zur Saatgewinnung und - aufbereitung\, Trocknung \, Lagerung und 
 Archivierung halten. Es gibt ausgiebige Zeit zu Nachfragen. Gerne könnt ih
 r wieder selbst Gebackenes und Tee / Kaffee für die anregenden Gespräche m
 itbringen.Zeit : 13 bis 16 UhrEinen lieben Gruß von den Tomatenretter*inne
 n \, KebaB - Garten\, Garten am Kulturpalast Billstedt ... und allen ander
 en Garteninis.Es werden noch Leute gesucht\, die die Veranstaltung mit vor
 bereiten.Alle Rückfragen bitte an: info@tomatenretter.de https://urbane-ga
 erten.de/veranstaltungen/event/547-saatgutfest-selbstorganisierter-hamburg
 er-garteninitiativen
DTSTART:20230225T130000Z
DTEND:20230225T170000Z
LOCATION:Hamburg\, Centro Sociale (Sternstraße 2\, 20357 Hamburg)
SUMMARY:Saatgutfest selbstorganisierter Hamburger Garteninitiativen
URL:https://urbane-gaerten.de/veranstaltungen/event/547-saatgutfest-selbsto
 rganisierter-hamburger-garteninitiativen
END:VEVENT
END:VCALENDAR
