BEGIN:VCALENDAR
VERSION:2.0
PRODID:-//https://urbane-gaerten.de///NONSGML kigkonsult.se iCalcreator 2.10.15//
METHOD:PUBLISH
BEGIN:VEVENT
UID:20260424T080110UTC-4718xoLkvA@https://urbane-gaerten.de/
DTSTAMP:20260424T080110Z
DESCRIPTION:Der Görlitzer Stadtteilgarten 'Zusammen.WACHSEN' lädt zur alljä
 hrlichen Saatguttauschbörse am 04.03.23 von 14 bis 18 Uhr in die Rabryka (
 Conrad-Schiedt-Straße 23) ein!Wir wollen dafür den Raum in unserem Veranst
 altungssaal zum fleißigen Tauschen und Vernetzen bieten.Für Kaffee und Kuc
 hen wird gesorgt sein\, aber natürlich könnt ihr auch gern was eigenes mit
 bringen. Zusätzlich sitzen wir derzeit noch an der Planung eines passenden
  Rahmenprogramms.Haben wir euer Interesse geweckt?Um den Überblick nicht z
 u verlieren und die Veranstaltung besser planen zu können\, gibt es hier e
 inen Anmeldelink über unsere Website:https://www.rabryka.eu/veranstaltunge
 n/detail/3871-Saatguttauschboerse-2023Bei eventuellen Rückfragen sind wir 
 unter folgenden Emailadressen erreichbar:sandra@second-attempt.de (Projekt
 koordination)werner@second-attempt.de (Projektassistenz)Wir freuen uns sch
 on auf euch!\nEuer Team von 'Zusammen.WACHSEN' https://urbane-gaerten.de/v
 eranstaltungen/event/576-saatguttauschbörse-görlitz-2023
DTSTART:20230304T140000Z
DTEND:20230304T180000Z
LOCATION:Second-Attempt e.V.\, RABRYKA (Conrad-Schiedt-Straße 23\, 02826\, 
 Görlitz\, Innenstadt\, Sachsen)
SUMMARY:Saatguttauschbörse Görlitz 2023
URL:https://urbane-gaerten.de/veranstaltungen/event/576-saatguttauschbörse-
 görlitz-2023
END:VEVENT
END:VCALENDAR
